BEGIN:VCALENDAR
VERSION:2.0
PRODID:-//Stadtkapelle, Musikverein e.V. Lauffen a.N. - ECPv6.15.20//NONSGML v1.0//EN
CALSCALE:GREGORIAN
METHOD:PUBLISH
X-WR-CALNAME:Stadtkapelle, Musikverein e.V. Lauffen a.N.
X-ORIGINAL-URL:http://mvlauffen.de
X-WR-CALDESC:Veranstaltungen für Stadtkapelle, Musikverein e.V. Lauffen a.N.
REFRESH-INTERVAL;VALUE=DURATION:PT1H
X-Robots-Tag:noindex
X-PUBLISHED-TTL:PT1H
BEGIN:VTIMEZONE
TZID:Europe/Berlin
BEGIN:DAYLIGHT
TZOFFSETFROM:+0100
TZOFFSETTO:+0200
TZNAME:CEST
DTSTART:20250330T010000
END:DAYLIGHT
BEGIN:STANDARD
TZOFFSETFROM:+0200
TZOFFSETTO:+0100
TZNAME:CET
DTSTART:20251026T010000
END:STANDARD
BEGIN:DAYLIGHT
TZOFFSETFROM:+0100
TZOFFSETTO:+0200
TZNAME:CEST
DTSTART:20260329T010000
END:DAYLIGHT
BEGIN:STANDARD
TZOFFSETFROM:+0200
TZOFFSETTO:+0100
TZNAME:CET
DTSTART:20261025T010000
END:STANDARD
BEGIN:DAYLIGHT
TZOFFSETFROM:+0100
TZOFFSETTO:+0200
TZNAME:CEST
DTSTART:20270328T010000
END:DAYLIGHT
BEGIN:STANDARD
TZOFFSETFROM:+0200
TZOFFSETTO:+0100
TZNAME:CET
DTSTART:20271031T010000
END:STANDARD
BEGIN:DAYLIGHT
TZOFFSETFROM:+0100
TZOFFSETTO:+0200
TZNAME:CEST
DTSTART:20280326T010000
END:DAYLIGHT
BEGIN:STANDARD
TZOFFSETFROM:+0200
TZOFFSETTO:+0100
TZNAME:CET
DTSTART:20281029T010000
END:STANDARD
END:VTIMEZONE
BEGIN:VEVENT
DTSTART;VALUE=DATE:20260613
DTEND;VALUE=DATE:20260616
DTSTAMP:20260426T062939
CREATED:20260330T120522Z
LAST-MODIFIED:20260330T120522Z
UID:8412-1781308800-1781567999@mvlauffen.de
SUMMARY:Lauffener Musikfest 2026
DESCRIPTION:
URL:http://mvlauffen.de/termin/lauffener-musikfest-2026/
LOCATION:Musikerheim Lauffen a.N.\, Körnerstraße 20\, Lauffen am neckar\, 74348\, Deutschland
ORGANIZER;CN="Stadtkapelle%2C Musikverein e.V. Lauffen a.N.":MAILTO:kontakt@mvlauffen.de
END:VEVENT
BEGIN:VEVENT
DTSTART;TZID=Europe/Berlin:20260726T170000
DTEND;TZID=Europe/Berlin:20260726T183000
DTSTAMP:20260426T062939
CREATED:20260330T120733Z
LAST-MODIFIED:20260330T120733Z
UID:8414-1785085200-1785090600@mvlauffen.de
SUMMARY:Stadtkapelle & friends
DESCRIPTION:
URL:http://mvlauffen.de/termin/stadtkapelle-friends/
LOCATION:Musikerheim Lauffen a.N.\, Körnerstraße 20\, Lauffen am neckar\, 74348\, Deutschland
ORGANIZER;CN="Stadtkapelle%2C Musikverein e.V. Lauffen a.N.":MAILTO:kontakt@mvlauffen.de
END:VEVENT
BEGIN:VEVENT
DTSTART;TZID=Europe/Berlin:20261018T163000
DTEND;TZID=Europe/Berlin:20261018T173000
DTSTAMP:20260426T062939
CREATED:20260330T120823Z
LAST-MODIFIED:20260330T120823Z
UID:8416-1792341000-1792344600@mvlauffen.de
SUMMARY:Herbstkonzert 2026
DESCRIPTION:
URL:http://mvlauffen.de/termin/herbstkonzert-2026/
LOCATION:Stadthalle Lauffen am Neckar\, Stadthalle\, Lauffen a.N.\, 74348
ORGANIZER;CN="Stadtkapelle%2C Musikverein e.V. Lauffen a.N.":MAILTO:kontakt@mvlauffen.de
END:VEVENT
BEGIN:VEVENT
DTSTART;TZID=Europe/Berlin:20261024T180000
DTEND;TZID=Europe/Berlin:20261024T190000
DTSTAMP:20260426T062939
CREATED:20260330T120913Z
LAST-MODIFIED:20260330T120913Z
UID:8418-1792864800-1792868400@mvlauffen.de
SUMMARY:Lichterfest 2026
DESCRIPTION:
URL:http://mvlauffen.de/termin/lichterfest-2026/
LOCATION:Kiesplatz Lauffen a.N.
ORGANIZER;CN="Stadtkapelle%2C Musikverein e.V. Lauffen a.N.":MAILTO:kontakt@mvlauffen.de
END:VEVENT
BEGIN:VEVENT
DTSTART;TZID=Europe/Berlin:20261024T183000
DTEND;TZID=Europe/Berlin:20261024T193000
DTSTAMP:20260426T062939
CREATED:20251106T135648Z
LAST-MODIFIED:20251106T135648Z
UID:8257-1792866600-1792870200@mvlauffen.de
SUMMARY:Lichterfest auf dem Kiesplatz
DESCRIPTION:
URL:http://mvlauffen.de/termin/lichterfest-auf-dem-kiesplatz/
LOCATION:Kiesplatz Lauffen a.N.
ORGANIZER;CN="Stadtkapelle%2C Musikverein e.V. Lauffen a.N.":MAILTO:kontakt@mvlauffen.de
END:VEVENT
BEGIN:VEVENT
DTSTART;TZID=Europe/Berlin:20261219T193000
DTEND;TZID=Europe/Berlin:20261219T220000
DTSTAMP:20260426T062939
CREATED:20260330T121010Z
LAST-MODIFIED:20260330T121010Z
UID:8420-1797708600-1797717600@mvlauffen.de
SUMMARY:Weihnachtsfeier 2026
DESCRIPTION:
URL:http://mvlauffen.de/termin/weihnachtsfeier-2026/
LOCATION:Stadthalle Lauffen am Neckar\, Stadthalle\, Lauffen a.N.\, 74348
ORGANIZER;CN="Stadtkapelle%2C Musikverein e.V. Lauffen a.N.":MAILTO:kontakt@mvlauffen.de
END:VEVENT
BEGIN:VEVENT
DTSTART;VALUE=DATE:20270605
DTEND;VALUE=DATE:20270608
DTSTAMP:20260426T062939
CREATED:20260330T121105Z
LAST-MODIFIED:20260330T121105Z
UID:8422-1812153600-1812412799@mvlauffen.de
SUMMARY:Lauffener Musikfest 2027
DESCRIPTION:
URL:http://mvlauffen.de/termin/lauffener-musikfest-2027/
LOCATION:Musikerheim Lauffen a.N.\, Körnerstraße 20\, Lauffen am neckar\, 74348\, Deutschland
ORGANIZER;CN="Stadtkapelle%2C Musikverein e.V. Lauffen a.N.":MAILTO:kontakt@mvlauffen.de
END:VEVENT
BEGIN:VEVENT
DTSTART;VALUE=DATE:20270626
DTEND;VALUE=DATE:20270628
DTSTAMP:20260426T062939
CREATED:20260330T121207Z
LAST-MODIFIED:20260330T121253Z
UID:8424-1813968000-1814140799@mvlauffen.de
SUMMARY:Regiswindiswochenende 2027
DESCRIPTION:
URL:http://mvlauffen.de/termin/regiswindiskonzert-2027/
LOCATION:Regiswindiskirche Lauffen a.N.\, Lauffen a.N.\, 74348\, Deutschland
ORGANIZER;CN="Stadtkapelle%2C Musikverein e.V. Lauffen a.N.":MAILTO:kontakt@mvlauffen.de
END:VEVENT
END:VCALENDAR